BEGIN:VCALENDAR
VERSION:2.0
PRODID:-//Tukios.com/
BEGIN:VEVENT
UID:75ddcdef-5a32-4a16-8e25-84647d4462a9@www.smitsfh.com
DTSTAMP:20260424T170251Z
DTSTART:20260429T160000Z
DTEND:20260429T170000Z
SUMMARY:Mass
DESCRIPTION:
URL:https://www.smitsfh.com/obituaries/adam-broccardo
LOCATION:St Edwards Church 216 S Nichols St  Lowell IN 46356
GEO:41.2874805;-87.4305253
END:VEVENT
END:VCALENDAR