BEGIN:VCALENDAR
VERSION:2.0
PRODID:-//Tukios.com/
BEGIN:VEVENT
UID:bf06c952-687f-47df-8929-64b9bed99765@www.smitsfh.com
DTSTAMP:20260424T170740Z
DTSTART:20260429T171500Z
DTEND:20260429T173000Z
SUMMARY:Interment
DESCRIPTION:
URL:https://www.smitsfh.com/obituaries/adam-broccardo
LOCATION:St Edwards Cemetery 5790 W 177th Ave  Lowell IN 46356
GEO:41.2973321;-87.4028102
END:VEVENT
END:VCALENDAR