BEGIN:VCALENDAR
VERSION:2.0
PRODID:-//Tukios.com/
BEGIN:VEVENT
UID:ccf0b5cc-1403-4605-8d88-6dcdf91f64b5@www.smitsfh.com
DTSTAMP:20260423T005105Z
DTSTART:20260425T230000Z
DTEND:20260426T000000Z
SUMMARY:Funeral Service
DESCRIPTION:
URL:https://www.smitsfh.com/obituaries/austin-nitcher
LOCATION:Smits Funeral Home 2121 Pleasant Springs Ln  Dyer IN 46311
GEO:41.4931636;-87.4923512
END:VEVENT
END:VCALENDAR