BEGIN:VCALENDAR
VERSION:2.0
PRODID:-//Tukios.com/
BEGIN:VEVENT
UID:6fbe818f-76bc-4cb1-a292-f5ca8ac2e1b9@www.smitsfh.com
DTSTAMP:20260419T204823Z
DTSTART:20260421T160000Z
DTEND:20260421T200000Z
SUMMARY:Visitation
DESCRIPTION:
URL:https://www.smitsfh.com/obituaries/gary-steffens
LOCATION: 2121 Pleasant Springs Ln  Dyer IN 46311
GEO:41.4931636;-87.4923512
END:VEVENT
END:VCALENDAR