BEGIN:VCALENDAR
VERSION:2.0
PRODID:-//Tukios.com/
BEGIN:VEVENT
UID:96ce639b-5965-48e0-90bc-be397ec85bbb@www.smitsfh.com
DTSTAMP:20260419T205002Z
DTSTART:20260421T200000Z
DTEND:20260421T210000Z
SUMMARY:Funeral Service
DESCRIPTION:
URL:https://www.smitsfh.com/obituaries/gary-steffens
LOCATION: 2121 Pleasant Springs Ln  Dyer IN 46311
GEO:41.4931636;-87.4923512
END:VEVENT
END:VCALENDAR