BEGIN:VCALENDAR
VERSION:2.0
PRODID:-//Tukios.com/
BEGIN:VEVENT
UID:efff2774-3726-4af2-b8c7-c788d5134cfa@www.smitsfh.com
DTSTAMP:20260421T192213Z
DTSTART:20260502T190000Z
DTEND:20260502T220000Z
SUMMARY:Memorial Visitation
DESCRIPTION:
URL:https://www.smitsfh.com/obituaries/lawrence-malloy
LOCATION: 2121 Pleasant Springs Ln  Dyer IN 46311
GEO:41.4931636;-87.4923512
END:VEVENT
END:VCALENDAR