BEGIN:VCALENDAR
VERSION:2.0
PRODID:-//Tukios.com/
BEGIN:VEVENT
UID:65db2f91-bcbd-4d9c-9d68-3df2f6293585@www.smitsfh.com
DTSTAMP:20260424T200258Z
DTSTART:20260428T200000Z
DTEND:20260429T010000Z
SUMMARY:Visitation
DESCRIPTION:
URL:https://www.smitsfh.com/obituaries/linda-kammert
LOCATION:Smits Funeral Home 2121 Pleasant Springs Ln  Dyer IN 46311
GEO:41.4931636;-87.4923512
END:VEVENT
END:VCALENDAR