BEGIN:VCALENDAR
VERSION:2.0
PRODID:-//Tukios.com/
BEGIN:VEVENT
UID:d08eec29-9e63-4171-b334-2b9f12767bcd@www.smitsfh.com
DTSTAMP:20260424T200319Z
DTSTART:20260429T163000Z
DTEND:20260429T173000Z
SUMMARY:Funeral Service
DESCRIPTION:
URL:https://www.smitsfh.com/obituaries/linda-kammert
LOCATION:Christ Our Savior Catholic Church 900 East 154th Street  South 
	Holland IL 60473
GEO:41.6159116;-87.5960309
END:VEVENT
END:VCALENDAR