BEGIN:VCALENDAR
VERSION:2.0
PRODID:-//Tukios.com/
BEGIN:VEVENT
UID:0a3ca639-6200-43e1-bafe-ab0796cffef2@www.smitsfh.com
DTSTAMP:20260424T200506Z
DTSTART:20260429T153000Z
DTEND:20260429T163000Z
SUMMARY:Visitation
DESCRIPTION:
URL:https://www.smitsfh.com/obituaries/linda-kammert
LOCATION:Christ Our Savior Catholic Church 900 East 154th Street  South 
	Holland IL 60473
GEO:41.6159116;-87.5960309
END:VEVENT
END:VCALENDAR