BEGIN:VCALENDAR
VERSION:2.0
PRODID:-//Tukios.com/
BEGIN:VEVENT
UID:de24d886-64bf-4578-9040-a5f42245f6d5@www.smitsfh.com
DTSTAMP:20260420T195738Z
DTSTART:20260425T000000Z
DTEND:20260425T010000Z
SUMMARY:Funeral Service
DESCRIPTION:
URL:https://www.smitsfh.com/obituaries/wayne-boss-sr
LOCATION:Bethel Christian Reformed Church 3500 Glenwood Lansing Road  
	Lansing IL 60438
GEO:41.543452;-87.5329401
END:VEVENT
END:VCALENDAR