BEGIN:VCALENDAR
VERSION:2.0
PRODID:-//Tukios.com/
BEGIN:VEVENT
UID:69def237-1251-4f5f-a845-d34a222b427e@www.smitsfh.com
DTSTAMP:20260420T195547Z
DTSTART:20260424T210000Z
DTEND:20260425T000000Z
SUMMARY:Visitation
DESCRIPTION:
URL:https://www.smitsfh.com/obituaries/wayne-boss-sr
LOCATION:Bethel Christian Reformed Church 3500 Glenwood Lansing Road  
	Lansing IL 60438
GEO:41.543452;-87.5329401
END:VEVENT
END:VCALENDAR